Workbook
Name _1Excel_BuiltIn_Print_Area_10_1_1: #REF!
Name _1Excel_BuiltIn_Print_Area_10_1_1: #REF!
Name _1Excel_BuiltIn_Print_Area_10_1_1: #REF!
Name _1Excel_BuiltIn_Print_Area_10_1_1: #REF!
Name _1Excel_BuiltIn_Print_Area_10_1_1: #REF!
Name _1Excel_BuiltIn_Print_Area_10_1_1: #REF!
Name _1Excel_BuiltIn_Print_Area_10_1_1: #REF!
Name _Toc306885473: I_A_1!$D$4
Name Excel_BuiltIn_Print_Area_1_1: #REF!
Name Excel_BuiltIn_Print_Area_1_1: #REF!
Name Excel_BuiltIn_Print_Area_1_1: #REF!
Name Excel_BuiltIn_Print_Area_1_1: #REF!
Name Excel_BuiltIn_Print_Area_1_1: #REF!
Name Excel_BuiltIn_Print_Area_1_1_1: #REF!
Name Excel_BuiltIn_Print_Area_1_1_1: #REF!
Name Excel_BuiltIn_Print_Area_1_1_1: #REF!
Name Excel_BuiltIn_Print_Area_1_1_1: #REF!
Name Excel_BuiltIn_Print_Area_1_1_1: #REF!
Name Excel_BuiltIn_Print_Area_10_1: #REF!
Name Excel_BuiltIn_Print_Area_10_1: #REF!
Name Excel_BuiltIn_Print_Area_10_1: #REF!
Name Excel_BuiltIn_Print_Area_10_1: #REF!
Name Excel_BuiltIn_Print_Area_10_1: #REF!
Name Excel_BuiltIn_Print_Area_10_1_1: #REF!
Name Excel_BuiltIn_Print_Area_10_1_1: #REF!
Name Excel_BuiltIn_Print_Area_10_1_1: #REF!
Name Excel_BuiltIn_Print_Area_10_1_1: #REF!
Name Excel_BuiltIn_Print_Area_10_1_1: #REF!
Name Excel_BuiltIn_Print_Area_10_1_1: #REF!
Name Excel_BuiltIn_Print_Area_11_1: #REF!
Name Excel_BuiltIn_Print_Area_11_1: #REF!
Name Excel_BuiltIn_Print_Area_11_1: #REF!
Name Excel_BuiltIn_Print_Area_11_1: #REF!
Name Excel_BuiltIn_Print_Area_11_1: III_C_6!$A$1:$S$1054
Name Excel_BuiltIn_Print_Area_12_1: #REF!
Name Excel_BuiltIn_Print_Area_12_1: #REF!
Name Excel_BuiltIn_Print_Area_12_1: #REF!
Name Excel_BuiltIn_Print_Area_12_1: #REF!
Name Excel_BuiltIn_Print_Area_12_1: III_E_1!$A$1:$L$253
Name Excel_BuiltIn_Print_Area_12_1_1: #REF!
Name Excel_BuiltIn_Print_Area_12_1_1: #REF!
Name Excel_BuiltIn_Print_Area_12_1_1: #REF!
Name Excel_BuiltIn_Print_Area_12_1_1: #REF!
Name Excel_BuiltIn_Print_Area_12_1_1: III_E_1!$A$1:$K$253
Name Excel_BuiltIn_Print_Area_14_1: #REF!
Name Excel_BuiltIn_Print_Area_14_1: #REF!
Name Excel_BuiltIn_Print_Area_14_1: #REF!
Name Excel_BuiltIn_Print_Area_14_1: #REF!
Name Excel_BuiltIn_Print_Area_14_1: III_E_3!$A$1:$N$429
Name Excel_BuiltIn_Print_Area_15_1: #REF!
Name Excel_BuiltIn_Print_Area_15_1: #REF!
Name Excel_BuiltIn_Print_Area_15_1: #REF!
Name Excel_BuiltIn_Print_Area_15_1: III_D_1!$C$1:$H$78
Name Excel_BuiltIn_Print_Area_15_1: 'III_F_1 '!$A$1:$J$3
Name Excel_BuiltIn_Print_Area_15_1: #REF!
Name Excel_BuiltIn_Print_Area_24_1: #REF!
Name Excel_BuiltIn_Print_Area_24_1: #REF!
Name Excel_BuiltIn_Print_Area_24_1: #REF!
Name Excel_BuiltIn_Print_Area_24_1: #REF!
Name Excel_BuiltIn_Print_Area_24_1: #REF!

Sheet Country Codes_ISO alpha-3
A1: Country or area name | B1: ISO ALPHA-3 code | D1: Source: http://unstats.un.org/unsd/methods/m49/m49alphaf.htm
A2: Austria | B2: AUT
A3: Belgium | B3: BEL
A4: Bulgaria | B4: BGR
A5: Croatia | B5: HRV
A6: Cyprus | B6: CYP
A7: Czech Republic | B7: CZE
A8: Denmark | B8: DNK
A9: Estonia | B9: EST
A10: Finland | B10: FIN
A11: France | B11: FRA
A12: Germany | B12: DEU
A13: Greece | B13: GRC
... A29: United Kingdom of Great Britain and Northern Ireland | B29: GBR

Sheet I_A_1
A1: Table I.A.1 - Derogations | G1: NP years | H1: 2014-2016
G2: AR year | H2: 2014
A3: Short title of derogation | B3: NP proposal section | C3: Type of data - Variables | D3: Region | E3: Derogation approved or rejected | F3: Year of approval or rejection | G3: Reason / Justification for derogation | H3: Comments
A4: Raja spp | B4: III_C_6 | C4: All | D4: ICES VI, VII (excl. VIId), VII, IX | E4: approved | F4: 2013 | G4: All the skates in the area ICES they are landed processed (wings and skinless) and they are not accessible to the sampling for any type of study. | H4: Approved by acceptance of National Program
A5: Merlanguis merlangius | B5: III_E_6 | C5: Stock related Variables | D5: ICES VIII, IX y X | E5: approved | F5: 2013 | G5: The Spanish landings of whiting, according to the estimates, are very scarce in the area, not exceeding 5 tons averages per year. | H5: Approved by acceptance of National Program
A6: Micromesistius poutassou | B6: III_E_6 | C6: Maturity | D6: ICES VIIIc y IXa | E6: approved | F6: 2013 | G6: The migration of the species to reproduce to a specific area in the west of Great Britain in February and March (spawning period). The Spanish fleet does not have access to that fraction of the population what prevents the obtaining of samples for the calculation of this varable | H6: Approved by acceptance of National Program
A7: PS_SPF_>=14_0_0 | B7: III_C_6 | C7: Metier related Variables | D7: Mediterráneo GSA5 | E7: approved | F7: 2013 | G7: The purse seine fleet is composed by 8 boats, of which only 4 operate regularly. The presentation of these data might compromise the confidentiality of such a small fleet. | H7: Approved by acceptance of National Program
A8: Atún rojo (Thunnus Thynnus) | B8: III_E_6 | C8: Sex ratio, Maturity | D8: Other Regions ICCAT | E8: approved | F8: 2013 | G8: In the Atlantic, the Spanish fisheries affect the spawning fraction (over six years) and juvenile fraction of the species. This circumstance makes certain lenght classes are outside the geographical area where the Spanish fisheries act and can not be covered . | H8: Approved by acceptance of National Program
A9: Atún blanco (Thunnus alalunga) | B9: III_E_6 | C9: Sex ratio, Maturity | D9: Other Regions ICCAT | E9: approved | F9: 2013 | G9: The Spanish fleet fishing, in a high percentage, the immature fraction of the population (<90 cm LH) and, in a lower percentage, adult fraction of albacore tuna (> 90 cm LH). The adults are captured in the resting phase, because the spawning area is located in tropical waters of the western Atlantic. Thus, it is unlikely take samples from spawners in northeast Atlantic, to perform these studies. | H9: Approved by acceptance of National Program
A10: Atún blanco (Thunnus alalunga) | B10: III_E_6 | C10: Sex ratio, Maturity | D10: Other Regions IOTC | E10: approved | F10: 2013 | G10: In the Indian Ocean, albacore catches are bycatch in other fisheries since there is no directed fishery for this species. The size of individuals (big weight) and the fact that catches are very distant in space and time (few individuals) involve difficulties in conducting biological sampling. | H10: Approved by acceptance of National Program
A11: Túnidos tropicales, rabil (Thunnus albacares), patudo (Thunnus obesus) y listado (Katsuwonus pelamis), | B11: III_E_6 | C11: Maturity (all spp.) and sex-ratio from Katsuwonus pelamis, | D11: Other Regions ICCAT, IOTC | E11: approved | F11: 2013 | G11: Difficult access to catches by the remoteness of the landing ports, the freezing of the fish, the handling difficulties due to mechanization of manipulation because the fishes are not processed on board (whole freezes). The purchase of individuals for biological sampling requires a very high funding because of the big size and the high economic value of the species. | H11: Approved by acceptance of National Program
A12: Túnidos tropicales, rabil (Thunnus albacares), patudo (Thunnus obesus) y listado (Katsuwonus pelamis), | B12: III_E_6 | C12: Stock related Variables | D12: Other Regions IATTC+ WCPFC, | E12: approved | F12: 2013 | G12: In the Pacific Ocean the small number of vessels operating in the area (3-5) along with the variety of landing ports do not compensate financially keeping an office or staff in each port to perform biological sampling. | H12: Approved by acceptance of National Program
A13: Istiophoridae | B13: III_E_6 | C13: Stock related Variables | D13: Other Regions IATTC+ WCPFC, | E13: approved | F13: 2013 | G13: Exemption is requested because "Istiophoridae" is a family, not a specific species, and while catches of the family exceed 200 tonnes, the catch of each species is lower. | H13: Approved by acceptance of National Program

Sheet I_A_2
A1: Table I.A.1 - Bilateral and Multilateral Agreements | H1: NP years | I1: 2014-2016
H2: AR year | I2: 2014
A3: MSs | B3: content | C3: coordination | D3: description of sampling / sampling protocol / sampling intensity | E3: data transmission | F3: costs | G3: access to vessels | H3: validity | I3: Comments
A4: ESP(IEO)-Seychelles Republic (SFA) | B4: Spanish flag tuna boats landing at the port of Victoria on Mahé island. | C4: Monitoring Committee specially designated | D4: .- Ensure the collection of data on tuna resources except socio-economic aspects. .- Monitoring the basic fisheries data (effort, catches, species composition and demografic structure of catches). .- Biological studies (growth and reproduction of Bigeye and Skipjack). | E4: ES (trhough IEO) is responsible for submitting data from its own vessels to the respective RFMO (IOTC) | F4: The IEO assumes all costs related to the implementation of programs and actions resulting from this MoU. | G4: - | H4: Signed: 05/07/2011. For 4 years extensible annually
A5: ESP(IEO)-Senegal (CRODT) | B5: Spanish flag tuna boats landing at the port of Dakar. | C5: Monitoring Committee specially designated | D5: .- Ensure the collection of data on tuna resources except socio-economic aspects. .- Monitoring the basic fisheries data (effort, catches, species composition and demografic structure of catches). .- Biological studies (growth and reproduction of Bigeye and Skipjack). | E5: ES (trhough IEO) is responsible for submitting data from its own vessels to the respective RFMO (ICCAT) | F5: Each Institution assumes all costs related to the implementation of programs and actions resulting from this MoU. | G5: - | H5: Signed: 01/06/2011. For 4 years extensible annually
A6: ESP(IEO)-FRA (IRD) | B6: Cooperation between the IEO and IRD in the context of Council Regulation (EC) 199/2008 of 25 February 2008, related to tropical tunal fleets | C6: Monitoring Committee specially designated | D6: .- Monitoring the basic fisheries data (effort, catches, species composition and demografic structure of catches). .-Pilot Project to estimate of discards and by-catches through onboard observers, to cover between 5 and 10% of the fleet. .- Biological studies (growth and reproduction of Bigeye and Skipjack). | E6: ES (trhough IEO) is responsible for submitting data from its own vessels to the respective RFMO (ICCAT) | F6: Each Institution assumes all costs related to the implementation of programs and actions resulting from this MoU. | G6: - | H6: Signed: 09/05/2011. For 4 years extensible annually
A7: IEO: Instituto Español de Ocanografía
A8: SFA: Seychelles Fishing Authority
A9: CRODT: Centre de Recherches Océanographiques Dakar Thiaroye
A10: IRD: Institute pour le Recherche et le Developement

Sheet II_B_1
A1: Table II.B.1 - International co-ordination | E1: NP years | F1: 2014-2016
E2: AR year | F2: 2014
A3: MS | B3: Acronym | C3: Name of the meeting | D3: RFMO/RFO/IO | E3: No. of attendees by MS | F3: Attendance | G3: Comments
A4: ESP | B4: - | C4: National co-ordination | D4: - | E4: 15 | F4: Y
A5: ESP | B5: - | C5: National Correspondants Meeting | D5: - | E5: 1 | F5: Y
A6: ESP | B6: RCMNA | C6: RCM for the North Atlantic - September | D6: DCF | E6: =2+2 -> 4 | F6: Y
A7: ESP | B7: RCMMed&BS&Tunas | C7: RCM for the Mediterranean & Black Sea & Tunas- September-Croatia | D7: DCF | E7: 4 | F7: Y
A8: ESP | B8: RCM NS&EA | C8: Regional Coordination Meeting for North Sea & Eastern Arctic | D8: DCF | E8: 1 | F8: Y
A9: ESP | B9: RCM LDF | C9: Regional Coordination Meeting for Long Distant Fisheries | D9: DCF | E9: 2 | F9: Y
A10: ESP | B10: - | C10: Stakeholder Meeting on the revision of the Data Collection Regulation, Brussels (Belgium), 16 january | D10: - | E10: =2+1 -> 3 | F10: Y
A11: ESP | B11: LM | C11: Liason Meeting | D11: DCF | E11: =1+1 -> 2 | F11: Y
A12: ESP | B12: PGCCDBS | C12: PGCCDBS (Horta-Azores) | D12: ICES | E12: =1+2 -> 3 | F12: Y
A13: ESP | B13: PGMed | C13: Mediterranean Planning Group for Methodological Development, Zagreb (Croatia), 1-2 september | D13: GFCM | E13: 2 | F13: Y
A14: ESP | B14: WGCATCH | C14: Working Group on Commercial Catches (WGCATCH) | D14: ICES | E14: =1+2 -> 3 | F14: Y
A15: ESP | B15: SC-RDB-1 | C15: Meeting of the Steering Committee of the Regional Database - 1 | D15: DCF | E15: 1 | F15: Y
A16: ESP | B16: WKRDB | C16: Workshop on the Regional Database WKRDB 2014 (Aberdeen, Escocia) | D16: DCF | E16: 1 | F16: Y
A17: ESP | B17: SCSA | C17: GFCM Meeting of SAC Subcommittee on Stock Assessment (SCSA), Bar (Montenegro), 3-4 February | D17: GFCM | E17: 2 | F17: Y
A18: ESP | B18: WGSASP | C18: Working group on stock assessment of small pelagics in the Mediterranean, Rome (Italy), November 24-27 | D18: GFCM | E18: 1 | F18: Y
A19: ESP | B19: WGSADEM | C19: Working group on stock assessment of demersal species and elasmobranches in the Mediterranean, Rome (Italy), November 24-27 | D19: GFCM | E19: 4 | F19: Y
A20: ESP | B20: TCDESING | C20: Training Course on Desing and analysis of Statistically Sound Catch Sampling Programmes, Copenhague (Denmark), 23-27 June | E20: 1 | F20: Y
A21: ESP | B21: - | C21: Workshop on the implementation of the DCRF in the Mediterranean and the Black Sea, Madrid (Spain), 15-16 December | D21: GFCM | E21: 6 | F21: Y
A22: ESP | B22: - | C22: Workshop on elasmobranchs conservation in the Mediterranean and Black Sea, Sète (France), 10-12 December | D22: GFCM | E22: 1 | F22: Y
A23: ESP | B23: - | C23: MedSuit Regional Workshop, Rome (Italy), 6-7 November | D23: GFCM | E23: 1 | F23: Y
A24: ESP | B24: SAC | C24: Scientific Advidsory Committee - 16th Session, Rome (Italy), 17-21 March | D24: GFCM | E24: 1 | F24: Y
A25: ESP | B25: - | C25: NAFO Scientific Council June meeting and Standing Committees | D25: NAFO | E25: 3 | F25: Y
A26: ESP | B26: - | C26: NAFO Scientific Council September meeting and Standing Committees | D26: NAFO | E26: =3+1 -> 4 | F26: Y
A27: ESP | B27: WGESA | C27: NAFO WG on Ecosystems Approach to Fisheries Management | D27: NAFO | E27: 2 | F27: Y
A28: ESP | B28: - | C28: Portuguese-Spanish surveys in Flemish Cap - coordination meeting for the survey - Vigo, Spain | D28: NAFO | E28: 10 | F28: Y
A29: ESP | B29: - | C29: SCRS Species Groups Meetings | D29: ICCAT | E29: 18 | F29: Y
A30: ESP | B30: SCRS | C30: Meeting of the Standing Committee on Research and Statistics | D30: ICCAT | E30: 14 | F30: Y
A31: ESP | B31: - | C31: Meeting of the Working Group on Stock Assessment Methods | D31: ICCAT | E31: 2 | F31: Y
A32: ESP | B32: - | C32: Sub-Committee on Ecosystems intersessional meeting | D32: ICCAT | E32: 3 | F32: Y
A33: ESP | B33: - | C33: Sharks species group intersessional meeting | D33: ICCAT | E33: 2 | F33: Y
A34: ESP | B34: - | C34: Bluefin data preparatory meeting | D34: ICCAT | E34: 5 | F34: Y
A35: ESP | B35: - | C35: Bluefin Stock Assessment | D35: ICCAT | E35: 11 | F35: Y
A36: ESP | B36: - | C36: Skipjack Stock Assessment meeting | D36: ICCAT | E36: 4 | F36: Y
A37: ESP | B37: - | C37: Mediterranean Swordfish Stock Assessment | D37: ICCAT | E37: 1 | F37: Y
A38: ESP | B38: - | C38: Meeting of the working group for the development of the SCRS Science Strategic Plan | D38: ICCAT | E38: 4 | F38: Y
A39: ESP-FRA | B39: - | C39: Reunión de coordinación IEO-IRD y reunión de observadores de coordinación IEO-IRD-AZTI | D39: ICCAT/IOTC | E39: 5 | F39: Y
A40: ESP | B40: IOTC-WPTT16 | C40: 16th Working Party on Tropical Tunas | D40: IOTC | E40: =1+2 -> 3 | F40: Y
...

Sheet II_B_2
A1: Table II.B.2 - Follow-up of recommendations | H1: NP years | I1: 2014-2016
H2: AR year | I2: 2014
A3: MS | B3: Region | C3: Source | D3: Section | E3: Topic | F3: Recommendation number | G3: Recommendation/Agreement | H3: Follow-up action | I3: Comments
A4: ESP
A5: ESP | B5: North Atlantic | C5: LM 2013 | D5: III.C | E5: Metier related variables | F5: 12 | G5: MS to document Quality Control and Quality Approach procedures in summary for review at the next RCM. MS have a duty of care and are required under the current DCF to ensure that the data within their own MS databases are also checked for inaccuracies before uploading anything to the RDB. | H5: Ante la falta de unas directrices claras para elaborar este tipo de documentación, los esfuerzos se centraron en la mejora y refuerzo de los procesos de chequeo y calidad existentes siguiendo recomendaciones o propuestas del RCM NA. La base de datos nacional se amplió con nuevos campos y se mejoró la detección de outliers con analisis estadisticos del paquete COST. Tal y como el RCM NA 2014 refleja, ningún país aportó documentación de estos procesos, a la espera de que WGCATCH sea capaz de elaborar unas directrices especificas.
A6: ESP | B6: North Atlantic | C6: LM 2013 | D6: - | F6: 16 | G6: RCM NA recommends that the non‐EU share of the research vessel cost for conducting the following surveys is shared among MS according to their EU‐TAC shares for the main species concerned: i) the International Ecosystem Survey in the Nordic (Atlanto‐Scandian herring), ii) the Blue Whiting Survey (blue whiting). Those MS having a EU‐TAC share >= 5% (average TAC 2011‐2013) are to be included in the cost sharing. The share is based on the relative share in the total costs of all MS participating. The share will be reviewed mid‐term EMFF period.
A7: ESP | B7: Mediterranean Sea and Black Sea | C7: RCM Med&BS 2013 | D7: - | E7: Regional Data Base | F7: 1 | G7: The Group agreed that the MED&BS RDB will include biological and transversal data | H7: The Mediterranean Regional Data Base is not working yet | I7: LM 2013 Report does not take any recommendation of the RCMMed&BS
A8: ESP | B8: Mediterranean Sea and Black Sea | C8: RCM Med&BS 2013 | D8: - | E8: Regional Data Base | F8: 2 | G8: The Group agreed that the MED&BS RDB could be hosted by GFCM. Upon the clearance of the RCMMed&BS, a formal procedure will be activated in order to contact GFCM officially and consequently evaluate the related feasibility and necessary funding. | H8: The Mediterranean Regional Data Base is not working yet | I8: LM 2013 Report does not take any recommendation of the RCMMed&BS
A9: ESP | B9: Mediterranean Sea and Black Sea | C9: WGSASP 2013 | D9: - | G9: Incorporate environmental issues in the reference points framework | H9: In the assessments on small pelagics 2014 environmental issues have been incorporated
A10: ESP | B10: Other regions, Mediterranean and BS and North Atlantic | C10: RCM LDF 2013 | D10: all | E10: Regional cordination on Large Pelagics | F10: Rec 2013-3 | G10: The RCM LDF recommends the creation of a coordination group on Large Pelagics covering areas of competence of RCM LDF, NA, Med&BS and dealing with all large pelagic species and fisheries. In order to avoid the risk of duplication of meetings for some scientists dealing with large pelagics in particular in the Mediterranean and in Other areas (for example swordfish, bluefin tuna), it is recommended to expand the RCM “Med&BS” to a RCM “Med&BS & Large Pelagics”, which then would consist of two sub-groups (one dealing with the MD&BS and other with LP issues). | H10: RCM “Med&BS & Large Pelagics” have been created.
A11: ESP | B11: North Sea and Eastern Arctic | C11: RCM NS&EA 2013 | D11: III.C, III.E | E11: Quality assurance-Managed repository for RDB upload successes and data status reports | F11: RCM NS & EA 2013 Recommendation 6 | G11: RCM recommends that MS document their interpretation of trips, samples and sampling events and describe what the TripID and Sam‐pleID represent in there uploaded data. MS to provide a summary document of their interpretation of these key fields in the upload data formats. RCG to collate these documents for storing in the RDB repository (see earlier recommendation). | H11: This task is in progress. Spain will provide document when upload data in next RCM
A12: ESP
A13: ESP
A14: ESP
A15: ESP
A16: ESP

Sheet III_A_1
A1: Table III.A.1 – General description of the fishing sector | H1: NP years | I1: 2014-2016
H2: AR year | I2: 2014
A3: MS | B3: Region | C3: Sub-area | D3: Target assemblages or species assemblages
D4: Demersal (a) | E4: Pelagic (a) | F4: Industrial (b) | G4: Deep-water (a) | H4: Tuna and tuna-like | I4: Other highly migratory
A5: ESP | B5: Baltic Sea | C5: ICES areas III b-d | D5: N | E5: N | F5: N | G5: N
A6: ESP | B6: North Sea and Eastern Arctic | C6: ICES Sub-areas I, II, IIIa, IV and VIId | D6: Y | E6: N | F6: N | G6: N | H6: N | I6: N
A7: ESP | B7: North Atlantic | C7: ICES Sub-areas V, XIV (excl. VIId), and NAFO area | D7: Y | E7: Y | F7: N | G7: Y | H7: Y | I7: N
A8: ESP | B8: Mediterranean Sea and Black Sea | C8: All geographical sub-areas | D8: Y | E8: Y | F8: N | G8: Y | H8: Y | I8: N
A9: ESP | B9: Other regions where fisheries are operated by EU vessels and managed by RFMOs | C9: Central East Atlantic | D9: Y | E9: Y | F9: N | G9: N | H9: Y | I9: N
A10: ESP | C10: Antarctic | D10: Y | E10: N | F10: N | G10: N | H10: N | I10: N
A11: ESP | C11: Central West Atlantic | D11: N | E11: N | F11: N | G11: N | H11: N | I11: N
A12: ESP | C12: Indian Ocean | D12: N | E12: N | F12: N | G12: N | H12: Y | I12: N
A13: ESP | C13: Pacific Ocean | D13: N | E13: N | F13: N | G13: N | H13: Y | I13: N
A14: (a) Including fish, crustaceans and molluscs
A15: (b) Fisheries targeting species for the production of fish meal, fish oil, etc.

Sheet III_B_1
A1: Table III.B.1 - Population segments for collection of economic data | N1: NP years | O1: 2014-2016
N2: AR year | O2: 2014
A3: MS | B3: Supra region | C3: Fishing technique ( a) | D3: Length class | E3: Reference year | F3: Target population no. (b) ----- N | G3: Frame population no. ---- F | H3: Planned sample no. (b) ----- P | I3: Planned sample rate (b) ----- (P/F)*100 (%) | J3: Type of data collection scheme (c) | K3: Achieved Sample no. | L3: Achieved Sample rate | M3: Achieved Sample no. / Planned sampled no. | N3: National name of the survey (d) | O3: Comments
A4: ESP | B4: Baltic Sea, North Sea and Eastern Arctic, and North Atlantic | C4: Demersal trawlers and/or demersal seiners | D4: 12-<18 m* | E4: 2013 | F4: 60 | G4: 60 | H4: 4 | I4: =+H4/G4 -> 0.066666667 | J4: B | K4: 3 | L4: =+K4/G4 -> 0.05 | M4: =+K4/H4 -> 0.75 | N4: Encuesta Económica Pesca Marítima
A5: ESP | B5: Baltic Sea, North Sea and Eastern Arctic, and North Atlantic | C5: Demersal trawlers and/or demersal seiners | D5: 18-<24 m | E5: 2013 | F5: 82 | G5: 82 | H5: 4 | I5: =+H5/G5 -> 0.048780488 | J5: B | K5: 3 | L5: =+K5/G5 -> 0.036585366 | M5: =+K5/H5 -> 0.75 | N5: Encuesta Económica Pesca Marítima
A6: ESP | B6: Baltic Sea, North Sea and Eastern Arctic, and North Atlantic | C6: Demersal trawlers and/or demersal seiners | D6: 24-<40 m | E6: 2013 | F6: 152 | G6: 152 | H6: 9 | I6: =+H6/G6 -> 0.059210526 | J6: B | K6: 7 | L6: =+K6/G6 -> 0.046052632 | M6: =+K6/H6 -> 0.77777778 | N6: Encuesta Económica Pesca Marítima
A7: ESP | B7: Baltic Sea, North Sea and Eastern Arctic, and North Atlantic | C7: Demersal trawlers and/or demersal seiners | D7: 40 m or larger | E7: 2013 | F7: 21 | G7: 21 | H7: 12 | I7: =+H7/G7 -> 0.57142857 | J7: B | K7: 7 | L7: =+K7/G7 -> 0.33333333 | M7: =+K7/H7 -> 0.58333333 | N7: Encuesta Económica Pesca Marítima
A8: ESP | B8: Baltic Sea, North Sea and Eastern Arctic, and North Atlantic | C8: Purse seiners | D8: 10-<12 m* | E8: 2013 | F8: 21 | G8: 21 | H8: 4 | I8: =+H8/G8 -> 0.19047619 | J8: B | K8: 4 | L8: =+K8/G8 -> 0.19047619 | M8: =+K8/H8 -> 1 | N8: Encuesta Económica Pesca Marítima
A9: ESP | B9: Baltic Sea, North Sea and Eastern Arctic, and North Atlantic | C9: Purse seiners | D9: 12-<18 m | E9: 2013 | F9: 127 | G9: 127 | H9: 5 | I9: =+H9/G9 -> 0.039370079 | J9: B | K9: 5 | L9: =+K9/G9 -> 0.039370079 | M9: =+K9/H9 -> 1 | N9: Encuesta Económica Pesca Marítima
A10: ESP | B10: Baltic Sea, North Sea and Eastern Arctic, and North Atlantic | C10: Purse seiners | D10: 18-<24 m | E10: 2013 | F10: 97 | G10: 97 | H10: 4 | I10: =+H10/G10 -> 0.041237113 | J10: B | K10: 2 | L10: =+K10/G10 -> 0.020618557 | M10: =+K10/H10 -> 0.5 | N10: Encuesta Económica Pesca Marítima
A11: ESP | B11: Baltic Sea, North Sea and Eastern Arctic, and North Atlantic | C11: Purse seiners | D11: 24-<40 m | E11: 2013 | F11: 96 | G11: 96 | H11: 7 | I11: =+H11/G11 -> 0.072916667 | J11: B | K11: 6 | L11: =+K11/G11 -> 0.0625 | M11: =+K11/H11 -> 0.85714286 | N11: Encuesta Económica Pesca Marítima
A12: ESP | B12: Baltic Sea, North Sea and Eastern Arctic, and North Atlantic | C12: Dredgers | D12: 00-<10 m | E12: 2013 | F12: 1830 | G12: 1830 | H12: 37 | I12: =+H12/G12 -> 0.020218579 | J12: B | K12: 30 | L12: =+K12/G12 -> 0.016393443 | M12: =+K12/H12 -> 0.81081081 | N12: Encuesta Económica Pesca Marítima
A13: ESP | B13: Baltic Sea, North Sea and Eastern Arctic, and North Atlantic | C13: Dredgers | D13: 10-<12 m | E13: 2013 | F13: 12 | G13: 12 | H13: 4 | I13: =+H13/G13 -> 0.33333333 | J13: B | K13: 3 | L13: =+K13/G13 -> 0.25 | M13: =+K13/H13 -> 0.75 | N13: Encuesta Económica Pesca Marítima
A14: ESP | B14: Baltic Sea, North Sea and Eastern Arctic, and North Atlantic | C14: Dredgers | D14: 12-<18 m | E14: 2013 | F14: 83 | G14: 83 | H14: 4 | I14: =+H14/G14 -> 0.048192771 | J14: B | K14: 2 | L14: =+K14/G14 -> 0.024096386 | M14: =+K14/H14 -> 0.5 | N14: Encuesta Económica Pesca Marítima
A15: ESP | B15: Baltic Sea, North Sea and Eastern Arctic, and North Atlantic | C15: Vessels using hooks | D15: 10-<12 m* | E15: 2013 | F15: 63 | G15: 63 | H15: 4 | I15: =+H15/G15 -> 0.063492063 | J15: B | K15: 3 | L15: =+K15/G15 -> 0.047619048 | M15: =+K15/H15 -> 0.75 | N15: Encuesta Económica Pesca Marítima
... A63: ESP | B63: Other fishing regions | C63: Vessels using polyvalent passive gears only | D63: 24-<40 m* | E63: 2013 | F63: 20 | G63: 20 | H63: 5 | I63: =+H63/G63 -> 0.25 | J63: B | K63: 3 | L63: =+K63/G63 -> 0.15 | M63: =+K63/H63 -> 0.6 | N63: Encuesta Económica Pesca Marítima
A64: ESP | B64: NONE | C64: Inactive vessels | D64: 00-<10 m | E64: 2013 | F64: 952 | G64: 952 | H64: 952 | I64: =+H64/G64 -> 1 | J64: A | K64: 952 | L64: =+K64/G64 -> 1 | M64: =+K64/H64 -> 1
A65: ESP | B65: NONE | C65: Inactive vessels | D65: 10-<12 m | E65: 2013 | F65: 273 | G65: 273 | H65: 273 | I65: =+H65/G65 -> 1 | J65: A | K65: 273 | L65: =+K65/G65 -> 1 | M65: =+K65/H65 -> 1
A66: ESP | B66: NONE | C66: Inactive vessels | D66: 12-<18 m | E66: 2013 | F66: 60 | G66: 60 | H66: 60 | I66: =+H66/G66 -> 1 | J66: A | K66: 60 | L66: =+K66/G66 -> 1 | M66: =+K66/H66 -> 1
A67: ESP | B67: NONE | C67: Inactive vessels | D67: 18-<24 m | E67: 2013 | F67: 22 | G67: 22 | H67: 22 | I67: =+H67/G67 -> 1 | J67: A | K67: 22 | L67: =+K67/G67 -> 1 | M67: =+K67/H67 -> 1
A68: ESP | B68: NONE | C68: Inactive vessels | D68: 24-<40 m | E68: 2013 | F68: 54 | G68: 54 | H68: 54 | I68: =+H68/G68 -> 1 | J68: A | K68: 54 | L68: =+K68/G68 -> 1 | M68: =+K68/H68 -> 1
A69: ESP | B69: NONE | C69: Inactive vessels | D69: 40 m or larger | E69: 2013 | F69: 11 | G69: 11 | H69: 11 | I69: =+H69/G69 -> 1 | J69: A | K69: 11 | L69: =+K69/G69 -> 1 | M69: =+K69/H69 -> 1
A71: Note: Please ensure data for active and inactive vessels are presented seperately.
A72: (a) put an asterisk in the case the segment has been clustered with other segment(s)
A73: (b) planned sample can be modified based on updated information on the total population (fleet register)
A74: (c) A - Census; B - Probability Sample Survey; C - Non-Probability Sample Survey
A75: (d) name of the survey as reported in the NP if applicable. Not mandatory

Sheet III_B_2
A1: Table III.B.2 - Economic Clustering of fleet segments | G1: NP years | H1: 2014-2016
G2: AR year | H2: 2014
A3: MS | B3: Supra region | C3: Reference year | D3: Name of the clustered fleet segments | E3: Total number of vessels in the cluster by the 1st of January of the sampling year | F3: Fleet segments which have been clustered | G3: Number of vessels in the segment by the 1st of January of the sampling year | H3: Comments
A4: ESP | B4: Baltic Sea, North Sea and Eastern Arctic, and North Atlantic | C4: 2013 | D4: Demersal trawlers and/or demersal seiners 12-<18 m* | E4: 60 | F4: AREA27 Demersal trawlers and/or demersal seiners 10-<12 m | G4: 2 | H4: Cluster based on threshold (< 10 vessels)
F5: AREA27 Demersal trawlers and/or demersal seiners 12-<18 m | G5: 58 | H5: Main cluster
A6: ESP | B6: Baltic Sea, North Sea and Eastern Arctic, and North Atlantic | C6: 2013 | D6: Purse seiners 10-<12 m* | E6: 21 | F6: AREA27 Purse seiners 00-<10 m | G6: 1 | H6: Cluster based on threshold (< 10 vessels)
F7: AREA27 Purse seiners 10-<12 m | G7: 20 | H7: Main cluster
A8: ESP | B8: Baltic Sea, North Sea and Eastern Arctic, and North Atlantic | C8: 2013 | D8: Vessels using hooks 10-<12 m* | E8: 63 | F8: AREA27 Vessels using hooks 00-<10 m | G8: 6 | H8: Cluster based on threshold (< 10 vessels)
F9: AREA27 Vessels using hooks 10-<12 m | G9: 57 | H9: Main cluster
A10: ESP | B10: Baltic Sea, North Sea and Eastern Arctic, and North Atlantic | C10: 2013 | D10: Drift and/or fixed netters 10-<12 m* | E10: 122 | F10: AREA27 Drift and/or fixed netters 00-<10 m | G10: 4 | H10: Cluster based on threshold (< 10 vessels)
F11: AREA27 Drift and/or fixed netters 10-<12 m | G11: 118 | H11: Main cluster
A12: ESP | B12: Baltic Sea, North Sea and Eastern Arctic, and North Atlantic | C12: 2013 | D12: Drift and/or fixed netters 18-<24 m* | E12: 30 | F12: AREA27 Drift and/or fixed netters 18-<24 m | G12: 26 | H12: Main cluster
F13: AREA27 Drift and/or fixed netters 24-<40 m | G13: 4 | H13: Cluster based on threshold (< 10 vessels)
A14: ESP | B14: Baltic Sea, North Sea and Eastern Arctic, and North Atlantic | C14: 2013 | D14: Vessels using active and passive gears 12-<18 m* | E14: 29 | F14: AREA27 Vessels using active and passive gears 12-<18 m | G14: 21 | H14: Main cluster
F15: AREA27 Vessels using active and passive gears 18-<24 m | G15: 2 | H15: Cluster based on threshold (< 10 vessels)
F16: AREA27 Vessels using active and passive gears 24-<40 m | G16: 6 | H16: Cluster based on threshold (< 10 vessels)
A17: ESP | B17: Mediterranean | C17: 2013 | D17: Purse seiners 24-<40 m* | E17: 24 | F17: AREA37 Purse seiners 24-<40 m | G17: 22 | H17: Main cluster
F18: AREA37 Purse seiners 40 m or larger | G18: 2 | H18: Cluster based on threshold (< 10 vessels)
A19: ESP | B19: Mediterranean | C19: 2013 | D19: Dredgers 06-<12 m* | E19: 35 | F19: AREA37 Dredgers 00-<06 m | G19: 3 | H19: Cluster based on threshold (< 10 vessels)
F20: AREA37 Dredgers 06-<12 m | G20: 32 | H20: Main cluster
A21: ESP | B21: Mediterranean | C21: 2013 | D21: Vessels using hooks 06-<12 m* | E21: 55 | F21: AREA37 Vessels using hooks 00-<06 m | G21: 1 | H21: Cluster based on threshold (< 10 vessels)
F22: AREA37 Vessels using hooks 06-<12 m | G22: 54 | H22: Main cluster
A23: ESP | B23: Mediterranean | C23: 2013 | D23: Vessels using hooks 18-<24 m* | E23: 27 | F23: AREA37 Vessels using hooks 18-<24 m | G23: 22 | H23: Main cluster
F24: AREA37 Vessels using hooks 18-<24 m | G24: 5 | H24: Cluster based on threshold (< 10 vessels)
A25: ESP | B25: Mediterranean | C25: 2013 | D25: Vessels using pots and/or traps 12-<18 m* | E25: 17 | F25: AREA37 Vessels using pots and/or traps 06-<12 m | G25: 7 | H25: Cluster based on threshold (< 10 vessels)
F26: AREA37 Vessels using pots and/or traps 12-<18 m | G26: 7 | H26: Main cluster
F27: AREA37 Vessels using pots and/or traps 24-<40 m | G27: 3 | H27: Cluster based on threshold (< 10 vessels)
A28: ESP | B28: Mediterranean | C28: 2013 | D28: Vessels using polyvalent passive gears only 12-<18 m* | E28: 23 | F28: AREA37 Vessels using polyvalent passive gears only 12-<18 m | G28: 22 | H28: Main cluster
F29: AREA37 Vessels using polyvalent passive gears only 12-<18 m | G29: 1 | H29: Cluster based on threshold (< 10 vessels)
A30: ESP | B30: Other fishing regions | C30: 2013 | D30: Purse seiners 12-<18 m* | E30: 13 | F30: OFR Purse seiners 00-<10 m | G30: 1 | H30: Cluster based on threshold (< 10 vessels)
F31: OFR Purse seiners 10-<12 m | G31: 4 | H31: Cluster based on threshold (< 10 vessels)
F32: OFR Purse seiners 12-<18 m | G32: 8 | H32: Main cluster
A33: ESP | B33: Other fishing regions | C33: 2013 | D33: Vessels using hooks 24-<40 m* | E33: 96 | F33: OFR Vessels using hooks 18-<24 m | G33: 6 | H33: Cluster based on threshold (< 10 vessels)
F34: OFR Vessels using hooks 24-<40 m | G34: 90 | H34: Main cluster
A35: ESP | B35: Other fishing regions | C35: 2013 | D35: Vessels using polyvalent passive gears only 00-<10 m* | E35: 498 | F35: OFR Vessels using pots and/or trap 00-<10 m | G35: 1 | H35: Cluster FPO to PGP due to there aren't threshold FPO in this SUPRA
F36: OFR Vessels using polyvalent passive gears only 00-<10 m | G36: 497 | H36: Main cluster
A37: ESP | B37: Other fishing regions | C37: 2013 | D37: Vessels using polyvalent passive gears only 10-<12 m* | E37: 30 | F37: OFR Drift and/or fixed netters 10-<12 m | G37: 2 | H37: Cluster DFN to PGP due to there aren't more DFN in this SUPRA
F38: OFRVessels using pots and/or traps 10-<12 m | G38: 2 | H38: Cluster FPO to PGP due to there aren't threshold FPO in this SUPRA
F39: OFR Vessels using polyvalent passive gears only 10-<12 m | G39: 25 | H39: Main cluster
F40: OFR Vessels using active and passive gears 10-<12 m | G40: 1 | H40: Cluster based on threshold (< 10 vessels)
...

Sheet III_B_3
A1: Table III.B.3 - Economic Data collection strategy | K1: NP years | L1: 2014-2016 | P1: INFO dropdown list
K2: AR year | L2: 2014 | P2: Table III.B.3 | R2: Table III.B.3
A3: MS | B3: Supra region | C3: Variable group (a) | D3: Variables | E3: Reference year | F3: Data sources | G3: Fishing technique (b) | H3: Length class (b) | I3: Type of data collection scheme (c) | J3: Achieved sample rate | K3: Response rate | L3: Comments | P3: Fleet segments vessels | R3: Fleet segments vessels lenght classes
A4: ESP | B4: Baltic Sea, North Sea and Eastern Arctic, and North Atlantic | C4: Income | D4: Gross value of landings | E4: 2013 | F4: questionnaires | G4: Demersal trawlers and/or demersal seiners | H4: 12-<18 m* | I4: B | J4: 0.05 | K4: 0.75 | P4: Beam trawlers | R4: 0-< 10 m
A5: ESP | B5: Baltic Sea, North Sea and Eastern Arctic, and North Atlantic | C5: Income | D5: Gross value of landings | E5: 2013 | F5: questionnaires | G5: Demersal trawlers and/or demersal seiners | H5: 18-<24 m | I5: B | J5: 0.036585366 | K5: 0.75 | P5: Demersal trawlers and/or demersal seiners | R5: 0-< 6 m
A6: ESP | B6: Baltic Sea, North Sea and Eastern Arctic, and North Atlantic | C6: Income | D6: Gross value of landings | E6: 2013 | F6: questionnaires | G6: Demersal trawlers and/or demersal seiners | H6: 24-<40 m | I6: B | J6: 0.046052632 | K6: 0.77777778 | P6: Pelagic trawlers | R6: 10-< 12 m
A7: ESP | B7: Baltic Sea, North Sea and Eastern Arctic, and North Atlantic | C7: Income | D7: Gross value of landings | E7: 2013 | F7: questionnaires | G7: Demersal trawlers and/or demersal seiners | H7: 40 m or larger | I7: B | J7: 0.33333333 | K7: 0.58333333 | P7: Purse seiners | R7: 6-< 12 m
A8: ESP | B8: Baltic Sea, North Sea and Eastern Arctic, and North Atlantic | C8: Income | D8: Gross value of landings | E8: 2013 | F8: questionnaires | G8: Purse seiners | H8: 10-<12 m* | I8: B | J8: 0.19047619 | K8: 1 | P8: Dredgers | R8: 12-< 18 m
A9: ESP | B9: Baltic Sea, North Sea and Eastern Arctic, and North Atlantic | C9: Income | D9: Gross value of landings | E9: 2013 | F9: questionnaires | G9: Purse seiners | H9: 12-<18 m | I9: B | J9: 0.039370079 | K9: 1 | P9: Vessel using other active gears | R9: 18-< 24 m
A10: ESP | B10: Baltic Sea, North Sea and Eastern Arctic, and North Atlantic | C10: Income | D10: Gross value of landings | E10: 2013 | F10: questionnaires | G10: Purse seiners | H10: 18-<24 m | I10: B | J10: 0.020618557 | K10: 0.5 | P10: Vessels using Polyvalent ‘active’ gears only | R10: 24-< 40 m
A11: ESP | B11: Baltic Sea, North Sea and Eastern Arctic, and North Atlantic | C11: Income | D11: Gross value of landings | E11: 2013 | F11: questionnaires | G11: Purse seiners | H11: 24-<40 m | I11: B | J11: 0.0625 | K11: 0.85714286 | P11: Vessels using hooks | R11: 40 m or larger
A12: ESP | B12: Baltic Sea, North Sea and Eastern Arctic, and North Atlantic | C12: Income | D12: Gross value of landings | E12: 2013 | F12: questionnaires | G12: Dredgers | H12: 00-<10 m | I12: B | J12: 0.016393443 | K12: 0.81081081 | P12: Drift and/or fixed netters
A13: ESP | B13: Baltic Sea, North Sea and Eastern Arctic, and North Atlantic | C13: Income | D13: Gross value of landings | E13: 2013 | F13: questionnaires | G13: Dredgers | H13: 10-<12 m | I13: B | J13: 0.25 | K13: 0.75 | P13: Vessels using Pots and/or traps
A14: ESP | B14: Baltic Sea, North Sea and Eastern Arctic, and North Atlantic | C14: Income | D14: Gross value of landings | E14: 2013 | F14: questionnaires | G14: Dredgers | H14: 12-<18 m | I14: B | J14: 0.024096386 | K14: 0.5 | P14: Vessels using other Passive gears
A15: ESP | B15: Baltic Sea, North Sea and Eastern Arctic, and North Atlantic | C15: Income | D15: Gross value of landings | E15: 2013 | F15: questionnaires | G15: Vessels using hooks | H15: 10-<12 m* | I15: B | J15: 0.047619048 | K15: 0.75 | P15: Vessels using Polyvalent ‘passive’ gears only
A16: ESP | B16: Baltic Sea, North Sea and Eastern Arctic, and North Atlantic | C16: Income | D16: Gross value of landings | E16: 2013 | F16: questionnaires | G16: Vessels using hooks | H16: 12-<18 m | I16: B | J16: 0.039473684 | K16: 0.75 | P16: Vessels using active and passive gears
A17: ESP | B17: Baltic Sea, North Sea and Eastern Arctic, and North Atlantic | C17: Income | D17: Gross value of landings | E17: 2013 | F17: questionnaires | G17: Vessels using hooks | H17: 18-<24 m | I17: B | J17: 0.14285714 | K17: 0.8
A18: ESP | B18: Baltic Sea, North Sea and Eastern Arctic, and North Atlantic | C18: Income | D18: Gross value of landings | E18: 2013 | F18: questionnaires | G18: Vessels using hooks | H18: 24-<40 m | I18: B | J18: 0.37037037 | K18: 1
A19: ESP | B19: Baltic Sea, North Sea and Eastern Arctic, and North Atlantic | C19: Income | D19: Gross value of landings | E19: 2013 | F19: questionnaires | G19: Drift and/or fixed netters | H19: 10-<12 m* | I19: B | J19: 0.016393443 | K19: 0.5
A20: ESP | B20: Baltic Sea, North Sea and Eastern Arctic, and North Atlantic | C20: Income | D20: Gross value of landings | E20: 2013 | F20: questionnaires | G20: Drift and/or fixed netters | H20: 12-<18 m | I20: B | J20: 0.018518519 | K20: 0.75
A21: ESP | B21: Baltic Sea, North Sea and Eastern Arctic, and North Atlantic | C21: Income | D21: Gross value of landings | E21: 2013 | F21: questionnaires | G21: Drift and/or fixed netters | H21: 18-<24 m* | I21: B | J21: 0.13333333 | K21: 1
A22: ESP | B22: Baltic Sea, North Sea and Eastern Arctic, and North Atlantic | C22: Income | D22: Gross value of landings | E22: 2013 | F22: questionnaires | G22: Vessels using polyvalent passive gears only | H22: 00-<10 m | I22: B | J22: 0.015270936 | K22: 0.75609756
A23: ESP | B23: Baltic Sea, North Sea and Eastern Arctic, and North Atlantic | C23: Income | D23: Gross value of landings | E23: 2013 | F23: questionnaires | G23: Vessels using polyvalent passive gears only | H23: 10-<12 m | I23: B | J23: 0.034482759 | K23: 0.75
A24: ESP | B24: Baltic Sea, North Sea and Eastern Arctic, and North Atlantic | C24: Income | D24: Gross value of landings | E24: 2013 | F24: questionnaires | G24: Vessels using polyvalent passive gears only | H24: 12-<18 m | I24: B | J24: 0.04 | K24: 0.5
A25: ESP | B25: Baltic Sea, North Sea and Eastern Arctic, and North Atlantic | C25: Income | D25: Gross value of landings | E25: 2013 | F25: questionnaires | G25: Vessels using polyvalent passive gears only | H25: 18-<24 m | I25: B | J25: 0.12676056 | K25: 0.9
A26: ESP | B26: Baltic Sea, North Sea and Eastern Arctic, and North Atlantic | C26: Income | D26: Gross value of landings | E26: 2013 | F26: questionnaires | G26: Vessels using polyvalent passive gears only | H26: 24-<40 m | I26: B | J26: 0.033333333 | K26: 0.5
A27: ESP | B27: Baltic Sea, North Sea and Eastern Arctic, and North Atlantic | C27: Income | D27: Gross value of landings | E27: 2013 | F27: questionnaires | G27: Vessels using pots and/or traps | H27: 10-<12 m | I27: B | J27: 0.16666667 | K27: 1
A28: ESP | B28: Baltic Sea, North Sea and Eastern Arctic, and North Atlantic | C28: Income | D28: Gross value of landings | E28: 2013 | F28: questionnaires | G28: Vessels using pots and/or traps | H28: 12-<18 m | I28: B | J28: 0.06122449 | K28: 0.75
... A1083: ESP | B1083: Other fishing regions | C1083: Employment | D1083: FTE harmonised | E1083: 2013 | F1083: questionnaires | G1083: Vessels using polyvalent passive gears only | H1083: 24-<40 m* | I1083: B | J1083: 0.15 | K1083: 0.6
P1085: Vessels using Polyvalent ‘active’ gears only | R1085: 24-< 40 m
P1086: Vessels using hooks | R1086: 40 m or larger
A1087: (a) capital value (apart from the value of quota and other fishing rights), capital costs and transversal variables should not be reported in this table. Transversal variables have to be reported only in table III.F.1. | P1087: Drift and/or fixed netters
A1088: (b) MS should specify the segments for which a specific sampling strategy has been used. | P1088: Vessels using Pots and/or traps
A1089: (c) A - Census; B - Probability Sample Survey; C - Non-Probability Sample Survey | P1089: Vessels using other Passive gears
P1090: Vessels using Polyvalent ‘passive’ gears only
P1091: Vessels using active and passive gears

Sheet III_C_1
A1: Table III.C.1 - List of identified metiers | P1: NP years | Q1: 2014-2016
P2: AR year | Q2: 2014
A3: MS | B3: Reference period | C3: Region | D3: RFMO/RFO/IO | E3: Fishing ground | F3: Metier LVL6 | G3: Effort Days | H3: Total Landings (tonnes) | I3: Total Value (euros) | J3: Identified Effort | K3: Identified Landings | L3: Identified Value | M3: Identified Other (1) | N3: Identified Discards | O3: Is metier merged with other metiers for sampling? | P3: Name of metier to sample (Table III_C_3 column G) | Q3: Comments
A4: ESP | B4: 2012-2013 | C4: North Sea and Eastern Arctic | D4: ICES | E4: ICES SA I, II | F4: OTB_DEF_>=120_0_0 | G4: 419.5 | H4: 14561.943 | I4: NA | J4: Y | K4: Y | L4: NA | M4: - | N4: - | O4: N | P4: OTB_DEF_>=120_0_0
A5: ESP | B5: 2012-2013 | C5: North Sea and Eastern Arctic | D5: ICES | E5: ICES SA I, II | F5: OTM_DEF_100-119_0_0 | G5: 158.5 | H5: 1535.6505 | I5: NA | J5: Y | K5: Y | L5: NA | M5: - | N5: - | O5: N | P5: OTM_DEF_100-119_0_0
A6: ESP | B6: 2012-2013 | C6: North Atlantic | D6: ICES | E6: ICES SA XII,XIV, Div. Va | F6: OTB_DWS_100-129_0_0 | G6: 562 | H6: 3596 | I6: NA | J6: Y | K6: Y | L6: NA | M6: - | N6: - | O6: N | P6: OTB_DWS_100-129_0_0
A7: ESP | B7: 2012-2013 | C7: North Atlantic | D7: ICES | E7: ICES SA XII,XIV, Div. Va | F7: OTM_DEF_100-129_0_0 | G7: 484 | H7: 5311 | I7: NA | J7: Y | K7: Y | L7: NA | M7: - | N7: - | O7: N | P7: OTM_DEF_100-129_0_0 | Q7: This fishery can derived ocasionally to the areas 1F and 2J of NAFO. Anyway the mayor part of catches are in ICES area
A8: ESP | B8: 2012-2013 | C8: North Atlantic | D8: NAFO | E8: NAFO | F8: OTB_MDD_130-219_0_0 | G8: 1091 | H8: 9864 | I8: NA | J8: Y | K8: Y | L8: NA | M8: - | N8: - | O8: N | P8: OTB_MDD_130-219_0_0
A9: ESP | B9: 2012-2013 | C9: North Atlantic | D9: NAFO | E9: NAFO | F9: OTB_MDD_>=220_0_0 | G9: 306 | H9: 4596 | I9: NA | J9: Y | K9: Y | L9: NA | M9: - | N9: - | O9: N | P9: OTB_MDD_>=220_0_0
A10: ESP | B10: 2012-2013 | C10: North Atlantic | D10: NAFO | E10: NAFO | F10: OTB_CRU_40-59_0_0 | G10: 10 | H10: 30 | I10: NA | J10: N | K10: N | L10: NA | M10: Y | N10: - | O10: N | P10: OTB_CRU_40-59_0_0
A11: ESP | B11: 2012-2013 | C11: North Atlantic | D11: NAFO | E11: NAFO | F11: OTM_DEF_130-135_0_0 | G11: 15 | H11: 207 | I11: NA | J11: N | K11: N | L11: NA | M11: Y | N11: - | O11: N | P11: OTM_DEF_130-135_0_0 | Q11: It had not any plannification for the 2014 sampling. Fishery in NAFO 6G
A12: ESP | B12: 2012-2013 | C12: North Atlantic | D12: ICES | E12: Bay of Biscay | F12: GNS_DEF_>=100_0_0 | G12: 1104 | H12: 2220.4803 | I12: 6575697.1 | J12: N | K12: N | L12: N | M12: Y | N12: - | O12: N | P12: GNS_DEF_>=100_0_0
A13: ESP | B13: 2012-2013 | C13: North Atlantic | D13: ICES | E13: Bay of Biscay | F13: GTR_DEF_60-79_0_0 | G13: 1 | H13: 5.175 | I13: 8702.949 | J13: N | K13: N | L13: N | M13: N | N13: N | O13: - | P13: -
A14: ESP | B14: 2012-2013 | C14: North Atlantic | D14: ICES | E14: Bay of Biscay | F14: LHM_SPF_0_0_0 | G14: 1.5 | H14: 0.5045 | I14: 609.8975 | J14: N | K14: N | L14: N | M14: N | N14: N | O14: - | P14: -
A15: ESP | B15: 2012-2013 | C15: North Atlantic | D15: ICES | E15: Bay of Biscay | F15: LLS_DEF_0_0_0 | G15: 3111 | H15: 4105.591 | I15: 17096555 | J15: N | K15: Y | L15: Y | M15: - | N15: - | O15: N | P15: LLS_DEF_0_0_0
A16: ESP | B16: 2012-2013 | C16: North Atlantic | D16: ICES | E16: Bay of Biscay | F16: OTB_DEF_>=70_0_0 | G16: 2346 | H16: 3937.3619 | I16: 10644837 | J16: N | K16: N | L16: Y | M16: - | N16: - | O16: N | P16: OTB_DEF_>=70_0_0
A17: ESP | B17: 2012-2013 | C17: North Atlantic | D17: ICES | E17: Bay of Biscay | F17: OTB_MCF_>=70_0_0 | G17: 561 | H17: 1502.9374 | I17: 4373614.3 | J17: N | K17: N | L17: N | M17: Y | N17: - | O17: N | P17: OTB_MCF_>=70_0_0
A18: ESP | B18: 2012-2013 | C18: North Atlantic | D18: ICES | E18: Bay of Biscay | F18: OTB_MPD_>=70_0_0 | G18: 17.5 | H18: 55.77225 | I18: 158465.31 | J18: N | K18: N | L18: N | M18: Y | N18: - | O18: N | P18: OTB_MPD_>=70_0_0
A19: ESP | B19: 2012-2013 | C19: North Atlantic | D19: ICES | E19: Bay of Biscay | F19: PS_SPF_0_0_0 | G19: 2294 | H19: 20581.492 | I19: 19507107 | J19: N | K19: Y | L19: Y | M19: - | N19: - | O19: N | P19: PS_SPF_0_0_0
A20: ESP | B20: 2012-2013 | C20: North Atlantic | D20: ICES | E20: Bay of Biscay | F20: PTB_DEF_>=70_0_0 | G20: 1447.5 | H20: 2640.3337 | I20: 6463167.6 | J20: N | K20: N | L20: N | M20: Y | N20: - | O20: N | P20: PTB_DEF_>=70_0_0
A21: ESP | B21: 2012-2013 | C21: North Atlantic | D21: ICES | E21: Iberian | F21: DRB_MOL_0_0_0 | G21: 198123 | H21: 3095.7015 | I21: 22053504 | J21: Y | K21: N | L21: Y | M21: - | N21: - | O21: N | P21: DRB_MOL_0_0_0 | Q21: No DCF species. Derogation will be asked
A22: ESP | B22: 2012-2013 | C22: North Atlantic | D22: ICES | E22: Iberian | F22: FPO_CRU_0_0_0 | G22: 17779.5 | H22: 219.54809 | I22: 3258324 | J22: Y | K22: N | L22: N | M22: - | N22: - | O22: N | P22: FPO_CRU_0_0_0 | Q22: No DCF species. Derogation will be asked
A23: ESP | B23: 2012-2013 | C23: North Atlantic | D23: ICES | E23: Iberian | F23: FPO_FIF_0_0_0 | G23: 4671.5 | H23: 550.92454 | I23: 1709923 | J23: N | K23: N | L23: N | M23: N | N23: N | O23: - | P23: -
A24: ESP | B24: 2012-2013 | C24: North Atlantic | D24: ICES | E24: Iberian | F24: FPO_MOL_0_0_0 | G24: 62967 | H24: 4697.9598 | I24: 18328106 | J24: Y | K24: Y | L24: Y | M24: - | N24: - | O24: N | P24: FPO_MOL_0_0_0
A25: ESP | B25: 2012-2013 | C25: North Atlantic | D25: ICES | E25: Iberian | F25: GNS_DEF_>=100_0_0 | G25: 1791.5 | H25: 559.69117 | I25: 2898734.5 | J25: N | K25: N | L25: N | M25: Y | N25: - | O25: N | P25: GNS_DEF_>=100_0_0
A26: ESP | B26: 2012-2013 | C26: North Atlantic | D26: ICES | E26: Iberian | F26: GNS_DEF_40-59_0_0 | G26: 7583 | H26: 607.22597 | I26: 3298355.1 | J26: Y | K26: N | L26: N | M26: - | N26: - | O26: N | P26: GNS_DEF_40-59_0_0
A27: ESP | B27: 2012-2013 | C27: North Atlantic | D27: ICES | E27: Iberian | F27: GNS_DEF_60-79_0_0 | G27: 19766 | H27: 1658.0616 | I27: 5369305.5 | J27: Y | K27: N | L27: N | M27: - | N27: - | O27: N | P27: GNS_DEF_60-79_0_0
A28: ESP | B28: 2012-2013 | C28: North Atlantic | D28: ICES | E28: Iberian | F28: GNS_DEF_80-99_0_0 | G28: 7130.5 | H28: 4040.8953 | I28: 11377950 | J28: Y | K28: Y | L28: Y | M28: - | N28: - | O28: N | P28: GNS_DEF_80-99_0_0
A29: ESP | B29: 2012-2013 | C29: North Atlantic | D29: ICES | E29: Iberian | F29: GTR_DEF_40-59_0_0 | G29: 11142.5 | H29: 722.91887 | I29: 4330851.9 | J29: Y | K29: N | L29: N | M29: - | N29: - | O29: N | P29: GTR_DEF_40-59_0_0
A30: ESP | B30: 2012-2013 | C30: North Atlantic | D30: ICES | E30: Iberian | F30: GTR_DEF_60-79_0_0 | G30: 50460.5 | H30: 3206.5964 | I30: 15196389 | J30: Y | K30: N | L30: Y | M30: - | N30: - | O30: N | P30: GTR_DEF_60-79_0_0
A31: ESP | B31: 2012-2013 | C31: North Atlantic | D31: ICES | E31: Iberian | F31: HMD_MOL_0_0_0 | G31: 16218.5 | H31: 4232.5709 | I31: 8128186.2 | J31: Y | K31: Y | L31: Y | M31: - | N31: - | O31: N | P31: HMD_MOL_0_0_0 | Q31: No DCF species. Derogation will be asked
A32: ESP | B32: 2012-2013 | C32: North Atlantic | D32: ICES | E32: Iberian | F32: LHM_CEP_0_0_0 | G32: 1936 | H32: 70.01695 | I32: 767213.2 | J32: N | K32: N | L32: N | M32: N | N32: N | O32: - | P32: -
A33: ESP | B33: 2012-2013 | C33: North Atlantic | D33: ICES | E33: Iberian | F33: LHM_DEF_0_0_0 | G33: 293.5 | H33: 79.45286 | I33: 165225.28 | J33: N | K33: N | L33: N | M33: N | N33: N | O33: - | P33: -
A34: ESP | B34: 2012-2013 | C34: North Atlantic | D34: ICES | E34: Iberian | F34: LHM_DWS_0_0_0 | G34: 3011.5 | H34: 163.32067 | I34: 1925033.2 | J34: N | K34: N | L34: N | M34: Y | N34: - | O34: N | P34: LHM_DWS_0_0_0
A35: ESP | B35: 2012-2013 | C35: North Atlantic | D35: ICES | E35: Iberian | F35: LHM_SPF_0_0_0 | G35: 4543 | H35: 7723.0695 | I35: 7893169.7 | J35: N | K35: Y | L35: Y | M35: - | N35: - | O35: N | P35: LHM_SPF_0_0_0
A36: ESP | B36: 2012-2013 | C36: North Atlantic | D36: ICES | E36: Iberian | F36: LLS_DEF_0_0_0 | G36: 34037.5 | H36: 7978.7062 | I36: 25910175 | J36: Y | K36: Y | L36: Y | M36: - | N36: - | O36: N | P36: LLS_DEF_0_0_0
A37: ESP | B37: 2012-2013 | C37: North Atlantic | D37: ICES | E37: Iberian | F37: LLS_DWS_0_0_0 | G37: 798.5 | H37: 352.39753 | I37: 937426.05 | J37: N | K37: N | L37: N | M37: Y | N37: - | O37: N | P37: LLS_DWS_0_0_0
A38: ESP | B38: 2012-2013 | C38: North Atlantic | D38: ICES | E38: Iberian | F38: OTB_DEF_>=55_0_0 | G38: 9561.5 | H38: 14044.648 | I38: 26995082 | J38: Y | K38: Y | L38: Y | M38: - | N38: - | O38: N | P38: OTB_DEF_>=55_0_0
A39: ESP | B39: 2012-2013 | C39: North Atlantic | D39: ICES | E39: Iberian | F39: OTB_MCD_>=55_0_0 | G39: 22914 | H39: 7098.3117 | I39: 32995050 | J39: Y | K39: Y | L39: Y | M39: - | N39: - | O39: N | P39: OTB_MCD_>=55_0_0
A40: ESP | B40: 2012-2013 | C40: North Atlantic | D40: ICES | E40: Iberian | F40: OTB_MPD_>=55_0_0 | G40: 4316 | H40: 16618.909 | I40: 19554163 | J40: N | K40: Y | L40: Y | M40: - | N40: - | O40: N | P40: OTB_MPD_>=55_0_0
...

Sheet III_C_4
A1: Table III.C.4 - sampling strategy | P1: NP years | Q1: 2014-2016
P2: AR year | Q2: 2014
A3: MS | B3: MS participating in sampling | C3: Sampling year | D3: Region | E3: RFMO/RFO/IO | F3: Sampling frame code | G3: Sampling frame (fishing activities) | H3: Sampling frame (geographical location) | I3: Sampling frame (seasonality) | J3: Sampling strategy | K3: Sampling scheme | L3: Type of data collection scheme | M3: Time stratification | N3: Planned no. trips to be sampled at sea by MS | O3: Planned no. trips to be sampled on shore by MS | P3: Planned total no. trips to be sampled by MS (N+O) | Q3: Comments
A4: ESP | B4: ESP | C4: 2014 | D4: North Sea & Eastern Arctic | E4: ICES | F4: L1 | G4: Trawlers | H4: ICES I-II | I4: All year | J4: Concurrent at sea | K4: 1 | L4: B | M4: H | N4: 2 | O4: - | P4: 2
A5: ESP | B5: ESP | C5: 2014 | D5: North Atlantic | E5: ICES | F5: L2 | G5: Trawlers | H5: ICES XII-XIV, I-II | I5: All year | J5: Concurrent at sea | K5: 1 | L5: B | M5: H | N5: 3 | O5: - | P5: 3
A6: ESP | B6: ESP | C6: 2014 | D6: North Atlantic | E6: ICES-NAFO | F6: L3 | G6: Trawlers | H6: NAFO, ICES XII-VIb | I6: All year | J6: Concurrent at sea | K6: 1 | L6: B | M6: Q | N6: 9 | O6: - | P6: 9
A7: ESP | B7: ESP | C7: 2014 | D7: North Atlantic | E7: ICES | F7: I30 | G7: FPO_CRU_0_0_0 | I7: All year | J7: Concurrent | M7: Q | N7: 0 | O7: 0 | P7: 0 | Q7: No DCF species. Derogation will be asked
A8: ESP | B8: ESP | C8: 2014 | D8: North Atlantic | E8: ICES | F8: I31 | G8: FPO_MOL_0_0_0 | H8: Finisterre, Ribeira, Muros | I8: All year | J8: Concurrent-at-the-market | K8: 1 | L8: B | M8: Q | N8: - | O8: 60 | P8: 60
A9: ESP | B9: ESP | C9: 2014 | D9: North Atlantic | E9: ICES | F9: I53 | G9: GNS_DEF_40-59_0_0 | I9: All year | J9: Concurrent | M9: Q | N9: 0 | O9: 0 | P9: 0 | Q9: Metier selected in 2015 (revision of the NP 2015). It had not any plannification for the 2014 sampling
A10: ESP | B10: ESP | C10: 2014 | D10: North Atlantic | E10: ICES | F10: I32 | G10: GNS_DEF_60-79_0_0 | H10: Avilés/Gijón, Coruña, Fisterra, Muros | I10: All year | J10: Concurrent-at-the-market and concurrent-at-sea | K10: 1 | L10: B | M10: Q | N10: 25 | O10: 132 | P10: 301
A11: ESP | B11: ESP | C11: 2014 | D11: North Atlantic | E11: ICES | F11: I33 | G11: GNS_DEF_80-99_0_0 | H11: Luarca, Cedeira, Finisterre | I11: All year | J11: Concurrent-at-the-market and concurrent-at-sea | K11: 1 | L11: B | M11: Q | O11: 72
A12: ESP | B12: ESP | C12: 2014 | D12: North Atlantic | E12: ICES | F12: I34 | G12: GNS_DEF_>=100_0_0 | H12: Santoña, San Vicente, Cedeira | I12: All year | J12: Concurrent-at-the-market and concurrent-at-sea | K12: 1 | L12: B | M12: Q | O12: 72
A13: ESP | B13: ESP | C13: 2014 | D13: North Atlantic | E13: ICES | F13: I54 | G13: GTR_DEF_40-59_0_0 | I13: All year | J13: Concurrent | M13: Q | N13: 0 | O13: 0 | P13: 0
A14: ESP | B14: ESP | C14: 2014 | D14: North Atlantic | E14: ICES | F14: I35 | G14: GTR_DEF_60-79_0_0 | I14: All year | J14: Concurrent | M14: Q | N14: 0 | O14: 0 | P14: 0
A15: ESP | B15: ESP | C15: 2014 | D15: North Atlantic | E15: ICES | F15: I36 | G15: LHM_DWS_0_0_0 | H15: Tarifa | I15: All year | J15: Concurrent-at-the-market | K15: 1 | L15: B | M15: Q | N15: - | O15: 48 | P15: 48
A16: ESP | B16: ESP | C16: 2014 | D16: North Atlantic | E16: ICES | F16: I37 | G16: LHM_SPF_0_0_0 | H16: Santoña, Avilés/Gijón, Bermeo | I16: December-June | J16: Concurrent-at-the-market | K16: 1 | L16: B | M16: Q | N16: - | O16: 81 | P16: 81
A17: ESP | B17: ESP | C17: 2014 | D17: North Atlantic | E17: ICES | F17: I38 | G17: LLS_DEF_0_0_0 | H17: Avilés, Coruña, Ribeira | I17: All year | J17: Concurrent-at-the-market | K17: 1 | L17: B | M17: Q | N17: - | O17: 84 | P17: 84
A18: ESP | B18: ESP | C18: 2014 | D18: North Atlantic | E18: ICES | F18: I39 | G18: LLS_DWS_0_0_0 | H18: Barbate | I18: All year | J18: Concurrent-at-the-market | K18: 1 | L18: B | M18: Q | N18: - | O18: 24 | P18: 24
A19: ESP | B19: ESP | C19: 2014 | D19: North Atlantic | E19: ICES | F19: I40 | G19: OTB_MCD_>=55_0_0 | I19: All year | J19: Concurrent-at-sea | K19: 1 | L19: B | M19: Q | N19: 96 | O19: - | P19: 96
A20: ESP | B20: ESP | C20: 2014 | D20: North Atlantic | E20: ICES | F20: I41 | G20: OTB_DEF_>=55_0_0 | H20: Avilés, Burela, Coruña, Ribeira, Marín | I20: All year | J20: Concurrent-at-the-market and concurrent-at-sea | K20: 1 | L20: B | M20: Q | N20: 70 | O20: 216 | P20: 286
A21: ESP | B21: ESP | C21: 2014 | D21: North Atlantic | E21: ICES | F21: I41 | G21: OTB_MPD_>=55_0_0 | H21: Avilés, Burela, Coruña, Ribeira, Marín | I21: All year | K21: 1 | L21: B | M21: Q
A22: ESP | B22: ESP | C22: 2014 | D22: North Atlantic | E22: ICES | F22: I42 | G22: PS_SPF_0_0_0 | H22: Santoña, Avilés/Gijón, Coruña, Ribeira, Vigo. Golfo de Cádiz | I22: All year | J22: Concurrent-at-the-market and concurrent-at-sea | K22: 1 | L22: B | M22: Q | N22: 8 | O22: 424 | P22: 432
A23: ESP | B23: ESP | C23: 2014 | D23: North Atlantic | E23: ICES | F23: I43 | G23: PTB_MPD_>=55_0_0 | H23: Avilés, Celeiro, Coruña, Ribeira | I23: All year | J23: Concurrent-at-the-market and concurrent-at-sea | K23: 1 | L23: B | M23: Q | N23: 40 | O23: 94 | P23: 136
A24: ESP | B24: ESP | C24: 2014 | D24: North Atlantic | E24: ICES | F24: I44 | G24: LLS_DEF_0_0_0 | H24: Aviles, Celeiro, Burela, Coruña | I24: All year | J24: Concurrent-at-the-market | K24: 1 | L24: B | M24: Q | N24: - | O24: 24 | P24: 24
A25: ESP | B25: ESP | C25: 2014 | D25: North Atlantic | E25: ICES | F25: I45 | G25: OTB_DEF_>=70_0_0 | H25: Ondarroa, Santander, Aviles | I25: All year | J25: Concurrent-at-the-market and concurrent-at-sea | K25: 1 | L25: B | M25: Q | N25: 10 | O25: 50 | P25: 60
A26: ESP | B26: ESP | C26: 2014 | D26: North Atlantic | E26: ICES | F26: I45 | G26: OTB_MCF_>=70_0_0 | H26: Ondarroa | I26: All year | J26: Concurrent-at-the-market and concurrent-at-sea | K26: 1 | L26: B | M26: Q
A27: ESP | B27: ESP | C27: 2014 | D27: North Atlantic | E27: ICES | F27: I45 | G27: OTB_MPD_>=70_0_0 | H27: Ondarroa | I27: All year | J27: Concurrent-at-the-market and concurrent-at-sea | K27: 1 | L27: B | M27: Q
A28: ESP | B28: ESP | C28: 2014 | D28: North Atlantic | E28: ICES | F28: I46 | G28: PS_SPF_0_0_0 | H28: Ondarroa, Bermeo, Hondarribia | I28: All year | J28: Concurrent-at-the-market | K28: 1 | L28: B | M28: Q | N28: - | O28: 30 | P28: 30
A29: ESP | B29: ESP | C29: 2014 | D29: North Atlantic | E29: ICES | F29: I47 | G29: PTB_DEF_>=70_0_0 | H29: Ondarroa | I29: All year | J29: Concurrent-at-the-market and concurrent-at-sea | K29: 1 | L29: B | M29: Q | N29: 8 | O29: 10 | P29: 18
A30: ESP | B30: ESP | C30: 2014 | D30: North Atlantic | E30: ICES | F30: I48 | G30: GNS_DEF_>=100_0_0 | H30: Celeiro | I30: All year | J30: Concurrent-at-the-market | K30: 1 | L30: B | M30: Q | N30: - | O30: 24 | P30: 24
A31: ESP | B31: ESP | C31: 2014 | D31: North Atlantic | E31: ICES | F31: I48 | G31: GNS_DEF_120-219_0_0 | H31: Celeiro | I31: All year | J31: Concurrent-at-the-market | K31: 1 | L31: B | M31: Q | N31: -
A32: ESP | B32: ESP | C32: 2014 | D32: North Atlantic | E32: ICES | F32: I49 | G32: LLS_DEF_0_0_0 | H32: Celeiro, Burela, Coruña | I32: All year | J32: Concurrent-at-the-market | K32: 1 | L32: B | M32: Q | N32: - | O32: 36 | P32: 36
A33: ESP | B33: ESP | C33: 2014 | D33: North Atlantic | E33: ICES | F33: I50 | G33: OTB_DEF_70-99_0_0 | H33: Vigo | I33: All year | J33: Concurrent-at-the-market and concurrent-at-sea | K33: 1 | L33: B | M33: Q | N33: 17 | O33: 36 | P33: 105
A34: ESP | B34: ESP | C34: 2014 | D34: North Atlantic | E34: ICES | F34: I51 | G34: OTB_DEF_100-119_0_0 | H34: Coruña | I34: All year | J34: Concurrent-at-the-market and concurrent-at-sea | K34: 1 | M34: Q | O34: 48
A35: ESP | B35: ESP | C35: 2014 | D35: North Atlantic | E35: ICES | F35: I52 | G35: OTB_DEF_100-119_0_0 | H35: Ondarroa | I35: All year | J35: Concurrent-at-the-market and concurrent-at-sea | K35: 1 | L35: B | M35: Q | O35: 4
A36: ESP | B36: ESP | C36: 2015 | D36: North Atlantic | E36: ICES | F36: - | G36: DRB_MOL_0_0_0 | I36: All year | J36: - | L36: - | M36: - | N36: - | O36: - | P36: - | Q36: No DCF species. Derogation will be asked
A37: ESP | B37: ESP | C37: 2016 | D37: North Atlantic | E37: ICES | F37: - | G37: HMD_MOL_0_0_0 | I37: All year | J37: - | L37: - | M37: - | N37: - | O37: - | P37: - | Q37: No DCF species. Derogation will be asked
A38: ESP | B38: ESP | C38: 2014 | D38: Other regions | E38: CECAF | F38: C1 | G38: Purse seiners targeting anchovy | H38: Moroccan Coast (CECAF_ FAO 34.1.11) | I38: All year (except closed seasons in February-March) | J38: Concurrent-at-sea / Concurrent at market | K38: 1 | L38: B | M38: M | N38: 20 | O38: 10 | P38: =N38+O38 -> 30
A39: ESP | B39: ESP | C39: 2014 | D39: Other regions | E39: CECAF | F39: C2 | G39: Purse seiners targeting anchovy | H39: Moroccan Coast (CECAF_ FAO 34.1.11) sampled in Port of Barbate | I39: All year (except closed seasons in February-March) | J39: Other [Market stock specific sampling] | L39: B | M39: M | N39: 0 | O39: 30 | P39: 30 | Q39: Specific sampling of target species (anchovy) to complement the concurrent sampling
A40: ESP | B40: ESP | C40: 2014 | D40: Other regions | E40: CECAF | F40: C3 | G40: Artisanal Purse seiners targeting small pelagiscs | H40: Canary Islands waters (CECAF_ FAO 34.1.2) | I40: All year | J40: Concurrent at market | K40: 1 | L40: B | M40: M | N40: 0 | O40: 12 | P40: =N40+O40 -> 12
...

Sheet III_C_3
A1: Table III.C.3 - Sampled trips by metier | L1: NP years | M1: 2014-2016
L2: AR year | M2: 2014
